{"text_format":"2","workbook":"xlsx","n_sheets":16,"sheets":["PFP","PFP em branco","PFP_I Equip Proj","PFP_II Desp Viagens","PFP_III Ser Graf","PFP_IV Desp Gerais","PFP_V Topografia","PFP_VII Geotecnia","PFP_X Cronog Financ","PFP_X Cronog Financ preenchido","PFP_XIII_ Det_ custos Adm_","PFP_XIV Det_ Desp Fiscais","PFP_XV Det_ Enc_ Soc_","PFE_I","PTP_V Cronog Físico em Branco","PTP_V Cronog Físico"],"not_rendered":{"charts":0,"images":0,"macros":0,"external_links":0,"defined_names":14,"comments":0,"pivot_tables":0},"unopened":[],"bounds":{"document_bytes":16777216,"sheet_cells":100000,"run_cost":"one","rows_first":2000,"rows_last":500,"rows_between":2000,"halvings":0,"cell_chars":16384,"cell_head_chars":4096},"cells_cut":0,"cells_raw":0,"read":"whole","date_system":"1900"}

{"sheet":"PFP","index":0,"n_rows":51,"n_cols":15,"rows_kept":51,"cut":false,"hidden":false,"merged":[[6,0,6,14],[0,0,1,12],[0,13,0,14],[1,13,1,14],[2,0,2,14],[4,0,4,4],[4,5,4,13],[5,0,5,4],[5,5,5,13],[7,0,7,12],[7,13,7,14],[8,0,8,14],[18,0,18,12],[18,13,18,14],[12,0,12,14],[15,13,15,14],[16,0,16,12],[10,13,10,14],[14,0,14,12],[26,13,26,14],[22,0,22,12],[9,0,9,12],[9,13,9,14],[15,0,15,12],[11,0,11,12],[11,13,11,14],[13,0,13,12],[10,0,10,12],[13,13,13,14],[25,0,25,12],[25,13,25,14],[19,0,19,12],[19,13,19,14],[20,0,20,14],[22,13,22,14],[24,0,24,12],[27,13,27,14],[28,0,28,12],[28,13,28,14],[24,13,24,14],[17,0,17,12],[16,13,16,14],[17,13,17,14],[23,0,23,12],[23,13,23,14],[26,0,26,12],[30,0,30,14],[31,0,31,12],[31,13,31,14],[34,13,34,14],[14,13,14,14],[21,0,21,12],[21,13,21,14],[29,0,29,12],[29,13,29,14],[27,0,27,12],[37,0,37,8],[36,0,36,8],[36,9,36,14],[32,0,32,12],[32,13,32,14],[35,0,35,12],[33,0,33,12],[33,13,33,14],[34,0,34,12],[38,13,38,14],[48,0,48,14],[49,0,49,14],[35,13,35,14],[38,0,38,12],[50,0,50,14],[39,0,39,12],[39,13,39,14],[42,0,42,14],[44,0,44,14]]}
["PROPOSTA FINANCEIRA DE PROJETO",{"$nulls":12},"CODIGO:"]
[{"$nulls":13},"PFP"]
["NOME DA CONSULTORA:"]
[]
["PROJETO:",{"$nulls":4},"OBJETO:",{"$nulls":8},"EDITAL:"]
["Januária",{"$nulls":4},"Projeto do SAA de comunidades"]
["SERVIÇOS"]
["CUSTOS DIRETOS",{"$nulls":12},{"$f":"SUM(N10+N14+N17+N18+N25)","v":0}]
["MOBILIZAÇÃO/DESMOBILIZAÇÃO"]
["A - TOTAL DA MOBILIZAÇÃO/DESMOBILIZAÇÃO",{"$nulls":12},{"$f":"N11+N12","v":0}]
["A1 - MOBILIZAÇÃO (PFP-XII)",{"$nulls":12},0]
["A2 - DESMOBILIZAÇÃO (PFP-XII)",{"$nulls":12},0]
["MÃO-DE-OBRA"]
["B - TOTAL DE SALÁRIO DA EQUIPE",{"$nulls":12},{"$f":"SUM(N15:O16)","v":0}]
["B1 - TOTAL SALÁRIOS DA EQUIPE COM VÍNCULO (PFP-I)",{"$nulls":12},{"$f":"'PFP_I Equip Proj'!D40","v":0}]
["B2 - TOTAL SALÁRIO DO AUTÔNOMO (PFP-I)",{"$nulls":12},{"$f":"'PFP_I Equip Proj'!E40","v":0}]
["B3 - TRANSP., ALIMENT. E MORADIA CONFORME CLT (SOMATÓRIO DA LINHA \"C\" DOS (PFP-XI)"]
["C - TOTAL DE ENCARGOS SOCIAIS",{"$nulls":12},{"$f":"SUM(N19:O20)","v":0}]
["C1 - 77,25% INCIDENTE SOBRE O ITEM  B1 ",{"$nulls":12},{"$f":"'PFP_I Equip Proj'!F40","v":0}]
["C2 - 20% INCIDENTE SOBRE O ITEM  B2",{"$nulls":12},{"$f":"'PFP_I Equip Proj'!G40","v":0}]
["OUTRAS DESPESAS"]
["D - DESPESAS COM VIAGENS (PFP-II)",{"$nulls":12},{"$f":"'PFP_II Desp Viagens'!L30","v":0}]
["E - SERVIÇOS GRÁFICOS (PFP-III)",{"$nulls":12},{"$f":"'PFP_III Ser Graf'!G35","v":0}]
["F - DESPESAS GERAIS (PFP-IV)",{"$nulls":12},{"$f":"'PFP_IV Desp Gerais'!H42:H42","v":0}]
["TOTAL DE OUTRAS DESPESAS",{"$nulls":12},{"$f":"N22+N23+N24","v":0}]
["CUSTOS INDIRETOS",{"$nulls":12},{"$f":"N27+N28+N29","v":0}]
["G -  CUSTO DE ADMINISTRAÇÃO - (12% DO ITEM B) (PFP-XIII)",{"$nulls":12},{"$f":"'PFP_XIII_ Det_ custos Adm_'!G36","v":0}]
["H - REMUNERAÇÃO DA EMPRESA (LUCRO) - (8% DOS ITENS A+B+C+D+E+F+G)",{"$nulls":12},{"$f":"0.08*(N10+N14+N18+N22+N23+N24+N27)","v":0}]
["I - DESPESAS FISCAIS - (13,96% = DF' DOS ITENS A+B+C+D+E+F+G+H) (PFP-XIV)",{"$nulls":12},{"$f":"0.1396*(PFP!N10+PFP!N14+PFP!N18+PFP!N22+PFP!N23+PFP!N24+PFP!N27+PFP!N28)","v":0}]
["SUB-TOTAL TOTAL DOS SERVIÇOS ",{"$nulls":12},{"$f":"N8+N26","v":0}]
["SERVIÇOS DE CAMPO"]
["J1 - SERVIÇOS TOPOGRÁFICOS (PFP-V)",{"$nulls":12},{"$f":"'PFP_V Topografia'!G45","v":0}]
["J2 - SERVIÇOS GEOTÉCNICOS (PFP-VII)",{"$nulls":12},{"$f":"'PFP_VII Geotecnia'!G66","v":0}]
["J3 - SERVIÇOS AUXILIARES (PFE_I)",{"$nulls":12},{"$f":"PFE_I!G45","v":0}]
["TOTAL DOS SERVIÇOS  DE CAMPO",{"$nulls":12},{"$f":"SUM(N32:O34)","v":0}]
["TOTAL DA PROPOSTA",{"$nulls":12},{"$f":"N30+N35","v":0}]
["NOME DO INFORMANTE:",{"$nulls":8},"QUALIFICAÇÃO:"]
[]
["ASSINATURA:",{"$nulls":12},"DATA:"]
[]
["OBSERVAÇÃO:"]
["ESTE ORÇAMENTO FOI CALCULADO COM OS SEGUINTES % MÁXIMOS DE ENCARGOS SOCIAIS E CUSTOS INDIRETOS: "]
["1. ENCARGOS SOCIAIS DE AUTÔNOMOS = 20% SOBRE O SALÁRIO MENSAL"]
["2. ENCARGOS SOCIAIS DA EQUIPE COM VÍNCULO = 77,25% SOBRE O SALÁRIO MENSAL"]
["3. CUSTO DE ADMINISTRAÇÃO = 12% SOBRE O TOTAL DE SALÁRIOS DA EQUIPE (B1 + B2)"]
["4. REMUNERAÇÃO DA EMPRESA (LUCRO) = 8% SOBRE OS ITENS DE CUSTOS DIRETOS + CUSTO DE ADMINISTRAÇÃO"]
["5. DF = A SOMA DOS TRIBUTOS (EX: ISS 3,00 + PIS 1,65 + COFINS 7,60 = 12,25%)"]
["6. DF' = UTILIZADO NA LINHA \"I\" SERÁ CALCULADO APLICANDO A SEGUINTE FÓRMULA:"]
["    DF' = { [ 1 / ( 1 - DF) ] - 1 } x 100"]
["    DF' = { [ 1 / ( 1 - 0,1225 ) ] - 1 } x 100"]
["    DF' = 0,1396  ou  13,96%"]

{"sheet":"PFP em branco","index":1,"n_rows":51,"n_cols":15,"rows_kept":51,"cut":false,"hidden":false,"merged":[[34,0,34,12],[34,13,34,14],[25,0,25,12],[25,13,25,14],[50,0,50,14],[39,0,39,12],[39,13,39,14],[36,0,36,8],[42,0,42,14],[44,0,44,14],[48,0,48,14],[49,0,49,14],[29,0,29,12],[29,13,29,14],[38,0,38,12],[38,13,38,14],[35,0,35,12],[35,13,35,14],[36,9,36,14],[37,0,37,8],[33,0,33,12],[33,13,33,14],[24,0,24,12],[24,13,24,14],[32,0,32,12],[32,13,32,14],[26,0,26,12],[26,13,26,14],[27,0,27,12],[27,13,27,14],[28,0,28,12],[28,13,28,14],[15,0,15,12],[15,13,15,14],[17,13,17,14],[18,0,18,12],[18,13,18,14],[31,0,31,12],[31,13,31,14],[30,0,30,14],[23,0,23,12],[23,13,23,14],[22,0,22,12],[22,13,22,14],[16,0,16,12],[16,13,16,14],[17,0,17,12],[20,0,20,14],[21,0,21,12],[21,13,21,14],[19,0,19,12],[19,13,19,14],[14,0,14,12],[14,13,14,14],[8,0,8,14],[5,0,5,4],[11,0,11,12],[11,13,11,14],[12,0,12,14],[13,0,13,12],[13,13,13,14],[9,0,9,12],[9,13,9,14],[10,0,10,12],[10,13,10,14],[5,5,5,13],[6,0,6,14],[7,0,7,12],[7,13,7,14],[4,0,4,4],[4,5,4,13],[0,0,1,12],[0,13,0,14],[1,13,1,14],[2,0,2,14]]}
["PROPOSTA FINANCEIRA DE PROJETO",{"$nulls":12},"CODIGO:"]
[{"$nulls":13},"PFP"]
["NOME DA CONSULTORA:"]
[]
["PROJETO:",{"$nulls":4},"OBJETO:",{"$nulls":8},"EDITAL:"]
["Januária",{"$nulls":4},"Projeto do SAA de comunidades"]
["SERVIÇOS"]
["CUSTOS DIRETOS",{"$nulls":12},0]
["MOBILIZAÇÃO/DESMOBILIZAÇÃO"]
["A - TOTAL DA MOBILIZAÇÃO/DESMOBILIZAÇÃO",{"$nulls":12},{"$f":"N11+N12","v":0}]
["A1 - MOBILIZAÇÃO (PFP-XII)",{"$nulls":12},0]
["A2 - DESMOBILIZAÇÃO (PFP-XII)",{"$nulls":12},0]
["MÃO-DE-OBRA"]
["B - TOTAL DE SALÁRIO DA EQUIPE",{"$nulls":12},0]
["B1 - TOTAL SALÁRIOS DA EQUIPE COM VÍNCULO (PFP-I)",{"$nulls":12},0]
["B2 - TOTAL SALÁRIO DO AUTÔNOMO (PFP-I)",{"$nulls":12},{"$f":"'PFP_I Equip Proj'!E40","v":0}]
["B3 - TRANSP., ALIMENT. E MORADIA CONFORME CLT (SOMATÓRIO DA LINHA \"C\" DOS (PFP-XI)"]
["C - TOTAL DE ENCARGOS SOCIAIS",{"$nulls":12},0]
["C1 - 77,25% INCIDENTE SOBRE O ITEM  B1 ",{"$nulls":12},0]
["C2 - 20% INCIDENTE SOBRE O ITEM  B2",{"$nulls":12},{"$f":"'PFP_I Equip Proj'!G40","v":0}]
["OUTRAS DESPESAS"]
["D - DESPESAS COM VIAGENS (PFP-II)",{"$nulls":12},0]
["E - SERVIÇOS GRÁFICOS (PFP-III)",{"$nulls":12},0]
["F - DESPESAS GERAIS (PFP-IV)",{"$nulls":12},0]
["TOTAL DE OUTRAS DESPESAS",{"$nulls":12},0]
["CUSTOS INDIRETOS",{"$nulls":12},0]
["G -  CUSTO DE ADMINISTRAÇÃO - (12% DO ITEM B) (PFP-XIII)",{"$nulls":12},0]
["H - REMUNERAÇÃO DA EMPRESA (LUCRO) - (8% DOS ITENS A+B+C+D+E+F+G)",{"$nulls":12},0]
["I - DESPESAS FISCAIS - (13,96% = DF' DOS ITENS A+B+C+D+E+F+G+H) (PFP-XIV)",{"$nulls":12},{"$f":"0.1396*('PFP em branco'!N10+'PFP em branco'!N14+'PFP em branco'!N18+'PFP em branco'!N22+'PFP em branco'!N23+'PFP em branco'!N24+'PFP em branco'!N27+'PFP em branco'!N28)","v":0}]
["SUB-TOTAL TOTAL DOS SERVIÇOS ",{"$nulls":12},{"$f":"N8+N26","v":0}]
["SERVIÇOS DE CAMPO"]
["J1 - SERVIÇOS TOPOGRÁFICOS (PFP-V)",{"$nulls":12},0]
["J2 - SERVIÇOS GEOTÉCNICOS (PFP-VII)",{"$nulls":12},0]
["J3 - SERVIÇOS AUXILIARES (PFE_I)",{"$nulls":12},0]
["TOTAL DOS SERVIÇOS  DE CAMPO",{"$nulls":12},{"$f":"SUM(N32:O34)","v":0}]
["TOTAL DA PROPOSTA",{"$nulls":12},{"$f":"N30+N35","v":0}]
["NOME DO INFORMANTE:",{"$nulls":8},"QUALIFICAÇÃO:"]
[]
["ASSINATURA:",{"$nulls":12},"DATA:"]
[]
["OBSERVAÇÃO:"]
["ESTE ORÇAMENTO FOI CALCULADO COM OS SEGUINTES % MÁXIMOS DE ENCARGOS SOCIAIS E CUSTOS INDIRETOS: "]
["1. ENCARGOS SOCIAIS DE AUTÔNOMOS = 20% SOBRE O SALÁRIO MENSAL"]
["2. ENCARGOS SOCIAIS DA EQUIPE COM VÍNCULO = 77,25% SOBRE O SALÁRIO MENSAL"]
["3. CUSTO DE ADMINISTRAÇÃO = 12% SOBRE O TOTAL DE SALÁRIOS DA EQUIPE (B1 + B2)"]
["4. REMUNERAÇÃO DA EMPRESA (LUCRO) = 8% SOBRE OS ITENS DE CUSTOS DIRETOS + CUSTO DE ADMINISTRAÇÃO"]
["5. DF = A SOMA DOS TRIBUTOS (EX: ISS 3,00 + PIS 1,65 + COFINS 7,60 = 12,25%)"]
["6. DF' = UTILIZADO NA LINHA \"I\" SERÁ CALCULADO APLICANDO A SEGUINTE FÓRMULA:"]
["    DF' = { [ 1 / ( 1 - DF) ] - 1 } x 100"]
["    DF' = { [ 1 / ( 1 - 0,1225 ) ] - 1 } x 100"]
["    DF' = 0,1396  ou  13,96%"]

{"sheet":"PFP_I Equip Proj","index":2,"n_rows":51,"n_cols":10,"rows_kept":51,"cut":false,"hidden":false,"merged":[[0,0,1,5],[2,0,2,6],[6,0,8,0]]}
["SALÁRIOS E ENCARGOS DA EQUIPE",{"$nulls":5},"CODIGO:"]
[{"$nulls":6},"PFP-I"]
["NOME DA CONSULTORA:"]
[]
["PROJETO:",null,"OBJETO:",null,null,null,"EDITAL:"]
[{"$f":"PFP!A6","v":"Januária"},null,{"$f":"PFP!F6","v":"Projeto do SAA de comunidades"}]
["SÍMBOLO","TOTAL DE","SALÁRIO","TOTAL CUSTO","TOTAL CUSTO","TOTAL CUSTO","TOTAL CUSTO"]
[null,"HOMENS/MÊS","MENSAL  (R$)","SALÁRIOS DE "," SALÁRIOS DE  ","E. SOCIAIS DE ","E. SOCIAIS DE "]
[null,null,null,"B1","B2","B1","B2"]
[]
["C",0,null,{"$f":"B11*C11","v":0},null,{"$f":"D11*0.2","v":0}]
[]
["P0",0,null,{"$f":"B13*C13","v":0},null,{"$f":"D13*'PFP_XV Det_ Enc_ Soc_'!$F$36","v":0}]
[]
["P1",3,null,{"$f":"B15*C15","v":0},null,{"$f":"D15*'PFP_XV Det_ Enc_ Soc_'!$F$36","v":0}]
[]
["P2",0,null,{"$f":"B17*C17","v":0},null,{"$f":"D17*'PFP_XV Det_ Enc_ Soc_'!$F$36","v":0}]
[]
["P3",3,null,{"$f":"B19*C19","v":0},null,{"$f":"D19*'PFP_XV Det_ Enc_ Soc_'!$F$36","v":0}]
[{"$nulls":9},{"$f":"PFP!R35","v":0}]
["T0",0,null,{"$f":"B21*C21","v":0},null,{"$f":"D21*'PFP_XV Det_ Enc_ Soc_'!$F$36","v":0}]
[]
["T1",1.5,null,{"$f":"B23*C23","v":0},null,{"$f":"D23*'PFP_XV Det_ Enc_ Soc_'!$F$36","v":0}]
[]
["T2",0,null,{"$f":"B25*C25","v":0},null,{"$f":"D25*'PFP_XV Det_ Enc_ Soc_'!$F$36","v":0}]
[]
["T3",0,null,{"$f":"B27*C27","v":0},null,{"$f":"D27*'PFP_XV Det_ Enc_ Soc_'!$F$36","v":0}]
[]
["A1",1,null,{"$f":"B29*C29","v":0},null,{"$f":"D29*'PFP_XV Det_ Enc_ Soc_'!$F$36","v":0}]
[]
["A2",0,null,{"$f":"B31*C31","v":0},null,{"$f":"D31*'PFP_XV Det_ Enc_ Soc_'!$F$36","v":0}]
[]
["A3",0,null,{"$f":"B33*C33","v":0},null,{"$f":"D33*'PFP_XV Det_ Enc_ Soc_'!$F$36","v":0}]
[]
[]
[]
[]
[]
[]
["TOTAIS",{"$f":"SUM(B10:B39)","v":8.5},null,{"$f":"SUM(D11:D39)","v":0},{"$f":"SUM(E11:E39)","v":0},{"$f":"SUM(F11:F39)","v":0},{"$f":"SUM(G11:G39)","v":0}]
["NOME DO INFORMANTE:",{"$nulls":4},"QUALIFICAÇÃO:"]
[]
["ASSINATURA:",{"$nulls":5},"DATA:"]
[]
["LEGENDA:"]
["B1 - SALÁRIOS DA EQUIPE EM DIAS ÚTEIS"]
["B2- SALÁRIO DO AUTÔNOMO (CONSULTOR)"]
["OBSERVAÇÃO:"]
["UTILIZAR OS SÍMBOLOS DO FOR PPT-II - EQUIPE TÉCNICA"]
["DETALHAR OS ENCARGOS SOCIAIS NO FOR PPF-XV"]
["NÚMERO DE HORAS TRABALHADAS  POR MÊS = 176 (CENTO E SETENTA E SEIS)"]

{"sheet":"PFP_II Desp Viagens","index":3,"n_rows":39,"n_cols":14,"rows_kept":39,"cut":false,"hidden":false,"merged":[[1,12,1,13],[2,0,2,13],[4,3,4,11],[6,1,8,1],[28,0,28,1],[28,2,28,4],[28,5,28,7],[33,0,33,13],[0,0,1,11],[6,8,6,13],[7,2,7,4],[7,5,7,7],[6,2,6,7],[0,12,0,13],[7,11,7,13],[5,0,5,2],[7,8,7,10],[5,5,5,13],[38,0,38,13],[28,11,28,13],[29,0,29,10],[29,11,29,13],[32,1,32,11],[28,8,28,10]]}
["DESPESAS COM VIAGENS",{"$nulls":11},"CODIGO:"]
[{"$nulls":12},"PFP-II"]
["NOME DA CONSULTORA:"]
[]
["PROJETO:",null,null,"OBJETO:",{"$nulls":8},"EDITAL:"]
[{"$f":"'PFP_I Equip Proj'!A6","v":"Januária"},{"$nulls":4},{"$f":"'PFP_I Equip Proj'!C6","v":"Projeto do SAA de comunidades"}]
[null,"ROTEIRO","PASSAGENS",{"$nulls":5},"DIÁRIAS"]
["EQUIPE",null,"AÉREAS",null,null,"TERRESTRES",null,null,"NÍVEL SUPERIOR",null,null,"NÍVEL TÉC/AUX/APOIO"]
[null,null,"QUANT.","CUSTO (R$)","TOTAL (R$)","QUANT.","CUSTO (R$)","TOTAL (R$)","QUANT.","CUSTO (R$)","TOTAL (R$)","QUANT.","CUSTO (R$)","TOTAL (R$)"]
["P0","BH/MOC/BH",{"$f":"'PFP_I Equip Proj'!B13","v":0},null,{"$f":"C10*D10","v":0},0,0,{"$f":"F10*G10","v":0},{"$f":"C10*1","v":0},null,{"$f":"I10*J10","v":0},0,0,{"$f":"L10*M10","v":0}]
["P1","BH/MOC/BH",null,null,0,0,0,{"$f":"F11*G11","v":0},null,null,{"$f":"I11*J11","v":0},0,0,{"$f":"L11*M11","v":0}]
["P2","BH/MOC/BH",null,null,0,null,null,0,null,null,0,0,0,{"$f":"L12*M12","v":0}]
["P3","BH/MOC/BH",{"$f":"'PFP_I Equip Proj'!B16","v":0},null,0,null,null,0,{"$f":"C13*2","v":0},null,0]
["P0","BH/JANUÁRIA/BH",null,null,0,null,null,0,0,null,0]
["P1","BH/JANUÁRIA/BH",null,null,0,null,null,0,null,null,0,0,0,{"$f":"L15*M15","v":0}]
["P2","BH/JANUÁRIA/BH",null,null,0,null,null,0,0,null,0]
["P3","BH/JANUÁRIA/BH",null,null,0,null,null,0,null,null,0]
["P0","TAXI ",null,null,null,{"$f":"C10*4","v":0},null,0]
["P1","TAXI ",null,null,null,{"$f":"C11*4","v":0},null,0]
["P2","TAXI ",null,null,null,{"$f":"C12*4","v":0},null,0]
["P3","TAXI ",null,null,null,{"$f":"C13*4","v":0},null,0]
[{"$nulls":7},0]
[]
[]
[]
[]
[]
[]
["TOTAIS COM PASSAGENS/DIÁRIAS",null,{"$f":"SUM(E10:E28)","v":0},null,null,{"$f":"SUM(H10:H28)","v":0},null,null,{"$f":"SUM(K10:K28)","v":0},null,null,{"$f":"SUM(N10:N18)","v":0}]
["TOTAL DE DESPESAS COM VIAGENS ",{"$nulls":10},{"$f":"C29+F29+I29+L29","v":0}]
[]
["NOME DO INFORMANTE:",{"$nulls":5},"QUALIFICAÇÃO:"]
["ASSINATURA:",{"$nulls":11},"DATA:"]
["OBSERVAÇÃO:"]
["1 -  INCLUIR AS DESPESAS COM VIAGENS DA EQUIPE DURANTE A EXECUÇÃO DOS SERVIÇOS, INCLUSIVE PARA AS REUNIÕES COM A CODEVASF. "]
["2 - NÂO INCLUIR AS VIAGENS COM MOBILIZAÇÃO/DESMOBILIZAÇÃO DA EQUIPE"]
["3 - AS DIÁRIAS COBREM DESPESAS COM TAXI, ALIMENTAÇÃO E HOSPEDAGEM"]
["4 - TRANSFERIR O TOTAL DAS DESPESAS COM VIAGENS PARA A LINHA \"D\" DO (FOR PPF-I)"]
["5 - A LICITANTE DEVERÁ ADAPTAR OS ROTEIROS E VALORES PARA AS SUAS CONDIÇÕES."]

{"sheet":"PFP_III Ser Graf","index":4,"n_rows":43,"n_cols":7,"rows_kept":43,"cut":false,"hidden":false,"merged":[[0,0,1,5],[2,0,2,6],[4,2,4,5],[6,0,7,2],[6,3,7,3],[6,5,6,6],[39,0,39,6],[43,0,43,6],[32,0,32,5],[33,0,33,5],[34,0,34,5],[37,0,37,4]]}
["SERVIÇOS GRÁFICOS",{"$nulls":5},"CODIGO:"]
[{"$nulls":6},"PFP-III"]
["NOME DA CONSULTORA:"]
[]
["PROJETO:",null,"OBJETO:",null,null,null,"EDITAL:"]
[{"$f":"'PFP_II Desp Viagens'!A6:C6","v":"Januária"},null,{"$f":"'PFP_I Equip Proj'!C6","v":"Projeto do SAA de comunidades"}]
["DISCRIMINAÇÃO",null,null,"EXEMPLARES","Nº DE","CUSTOS (R$)"]
[{"$nulls":4},"VIAS","UNITÁRIO","TOTAL"]
[]
["Relatório de Reconhecimento",{"$nulls":5},{"$f":"D10*E10*F10","v":0}]
["Cadastro",{"$nulls":5},0]
["Estudo de concepção",{"$nulls":5},0]
["Minuta do projeto básico",{"$nulls":5},0]
["Projeto básico final ",{"$nulls":5},0]
["Orçamento com quantitativos  e especificações",{"$nulls":5},0]
["Detalhamentos elétricos e estruturais",{"$nulls":5},0]
["Estudos Ambientais",{"$nulls":5},0]
{"$rows_empty":15}
["SUBTOTAL",{"$nulls":5},{"$f":"SUM(G10:G32)","v":0}]
["RESERVA DE 10%",{"$nulls":5},{"$f":"10%*G33","v":0}]
["TOTAL  DE SERVIÇOS GRÁFICOS",{"$nulls":5},{"$f":"G33+G34","v":0}]
["NOME DO INFORMANTE:",null,null,"QUALIFICAÇÃO:"]
[]
["ASSINTATURA:",{"$nulls":4},"DATA:"]
[]
["OBSERVAÇÃO:"]
["1 - CORREPONDEM AOS SERVIÇOS COM IMPRESSÃO DOS  RELATÓRIOS. "]
["2 - RESERVA DE 10% CALCULADO SOBRE O SUBTOTAL PARA IMPRESSÃO DE RELATÓRIOS ESPECÍFICOS EXCEPCIONALMENTE "]
["     SOLICITADO PELA CODEVASF"]

{"sheet":"PFP_IV Desp Gerais","index":5,"n_rows":48,"n_cols":8,"rows_kept":48,"cut":false,"hidden":false,"merged":[[9,0,9,3],[0,0,1,6],[2,0,2,7],[5,2,5,6],[6,0,7,3],[6,4,7,4],[6,5,7,5],[6,6,6,7],[48,0,48,7],[49,0,49,7],[41,0,41,6],[44,0,44,5],[46,0,46,7],[47,0,47,7]]}
["DESPESAS GERAIS ",{"$nulls":6},"CODIGO:"]
[{"$nulls":7},"PFP-IV"]
["NOME DA CONSULTORA:"]
[]
["PROJETO:",null,"OBJETO:",{"$nulls":4},"EDITAL:"]
[{"$f":"'PFP_III Ser Graf'!A6","v":"Januária"},null,{"$f":"'PFP_III Ser Graf'!C6","v":"Projeto do SAA de comunidades"}]
["DISCRIMINAÇÃO",null,null,null,"UNID.","QUANT.","CUSTOS (R$)"]
[{"$nulls":6},"UNITÁRIO","TOTAL"]
[]
["Locação - Veículo utilitário (1.4 ou superior) ou similar, incluindo despesas com combustível, óleos, manutenção, licenciamento, seguros, impostos",null,null,null,"MÊS",null,null,{"$f":"F10*G10","v":0}]
[]
["Serviços de Computação",null,null,null,"MÊS",null,null,{"$f":"F12*G12","v":0}]
[]
["Comunicações (Internet + Telefone (fixo))",null,null,null,"MÊS",null,null,{"$f":"F14*G14","v":0}]
{"$rows_empty":27}
["TOTAL  DE DESPESAS GERAIS",{"$nulls":6},{"$f":"SUM(H10:H19)","v":0}]
["NOME DO INFORMANTE:",{"$nulls":4},"QUALIFICAÇÃO:"]
[]
["ASSINATURA:",{"$nulls":5},"DATA:"]
[]
["OBSERVAÇÃO:"]
["DESPESAS COM ALUGUEL E MANUTENÇÃO DE VEÍCULOS, SERVIÇOS DE COMPUTAÇÃO E COMUNICAÇÃO (MALOTE, CORREIO ETC.)"]

{"sheet":"PFP_V Topografia","index":6,"n_rows":53,"n_cols":7,"rows_kept":53,"cut":false,"hidden":false,"merged":[[24,1,24,2],[31,1,31,2],[16,1,16,2],[13,1,13,2],[14,1,14,2],[21,1,21,2],[15,1,15,2],[0,0,1,5],[2,0,2,6],[5,2,5,5],[6,0,7,2],[6,3,7,3],[6,4,7,4],[6,5,6,6],[47,0,47,2],[47,3,47,6],[17,1,17,2],[12,1,12,2],[11,1,11,2],[36,1,36,2],[37,1,37,2],[32,1,32,2],[18,1,18,2],[19,1,19,2],[33,1,33,2],[25,1,25,2],[28,1,28,2],[29,1,29,2],[30,1,30,2],[8,0,8,2],[9,0,9,2],[20,1,20,2],[22,1,22,2],[23,1,23,2],[34,1,34,2],[35,1,35,2],[48,0,49,4],[49,5,49,6],[43,1,43,2],[39,1,39,2],[40,1,40,2],[41,1,41,2],[42,1,42,2],[44,0,44,5]]}
["SERVIÇOS TOPOGRÁFICOS",{"$nulls":5},"CODIGO:"]
[{"$nulls":6},"PFP-V"]
["NOME DA CONSULTORA: "]
[]
["PROJETO:",null,"OBJETO:",null,null,null,"EDITAL:"]
[{"$f":"'PFP_IV Desp Gerais'!A6","v":"Januária"},null,{"$f":"'PFP_IV Desp Gerais'!C6:G6","v":"Projeto do SAA de comunidades"}]
["DISCRIMINAÇÃO",null,null,"UNID.","QUANT.","PREÇOS (R$)"]
[{"$nulls":5},"UNITÁRIO","TOTAL"]
["1 - SERVIÇO DE LEVANTAMENTO PLANIALTIMÉTRICO SEMI-CADASTRAL "]
[]
["Equipe de Saneamento",null,null,"dia",null,null,{"$f":"PRODUCT(E11*F11)","v":0}]
{"$rows_empty":33}
["TOTAL  DE SERVIÇOS TOPOGRÁFICOS",{"$nulls":5},{"$f":"SUM(G10:G44)","v":0}]
[]
["NOME DO INFORMANTE:",null,null,"QUALIFICAÇÃO:"]
[]
["ASSINATURA:",{"$nulls":4},"DATA:"]
[]
["OBSERVAÇÃO:"]
["NO PREÇO DOS SERVIÇOS TOPOGRÁFICOS, PAGOS A PREÇOS UNITÁRIOS, INCLUEM OS CUSTOS DE MÃO-DE-OBRA,  "]
["EQUIPAMENTOS E VEÍCULOS UTILIZADOS NA SUA EXECUÇÃO, BEM COMO CUSTOS DE ADMINISTRAÇÃO E DESPESAS FISCAIS"]

{"sheet":"PFP_VII Geotecnia","index":7,"n_rows":74,"n_cols":7,"rows_kept":74,"cut":false,"hidden":false,"merged":[[6,5,6,6],[63,0,63,1],[65,0,65,5],[67,0,67,2],[67,3,67,6],[0,0,1,5],[2,0,2,6],[3,0,3,6],[5,2,5,5],[5,0,5,1],[68,0,69,4],[69,5,69,6],[6,0,7,2],[6,3,7,3],[6,4,7,4]]}
["SERVIÇOS GEOTÉCNICOS",{"$nulls":5},"CODIGO:"]
[{"$nulls":6},"PFP-VII"]
["NOME DA CONSULTORA:"]
[]
["PROJETO:",null,"OBJETO:",null,null,null,"EDITAL:"]
[{"$f":"'PFP_V Topografia'!A6","v":"Januária"},null,{"$f":"'PFP_V Topografia'!C6:F6","v":"Projeto do SAA de comunidades"}]
["DISCRIMINAÇÃO",null,null,"UNID.","QUANT.","PREÇOS (R$)"]
[{"$nulls":5},"UNITÁRIO","TOTAL"]
["1. -    SONDAGEM MISTA"]
["1.1 -  Sondagem Rotativa"]
["       - Mobilização e desmobilização de equipamentos ",null,null,"equip",null,null,{"$f":"E11*F11","v":0}]
["       - Em granitos, gnaisses, quartzitos e rochas afins",{"$nulls":5},0]
["       - Ø N      ",null,null,"m",null,null,0]
["       - Ø B",null,null,"m",null,null,0]
["       - Ø N (sondagem em solo)",null,null,"m",null,null,0]
["       - Deslocamento e instalação do equipamento",{"$nulls":5},0]
["       - 0  a  200 metros",null,null,"unid.",null,null,0]
["       - 201 a 500 metros",null,null,"unid.",null,null,0]
["       - Acima de 500 metros",null,null,"unid.",null,null,0]
["1.2 - Sondagem a Percussão ",{"$nulls":5},0]
["        - Mobilização e desmobilização de equipamentos",null,null,"equip",0,null,0]
["        - Sondagem à percussão com SPT",null,null,"m",0,null,0]
["        - Deslocamento e instalação de equipamento    ",{"$nulls":5},0]
["        - 0 a 200 metros",null,null,"unid.",0,null,0]
["        - 201 a  500 metros",null,null,"unid.",0,null,0]
["        - Acima de 500 metros",null,null,"unid.",0,null,0]
["2. -  SONDAGEM SÍSMICA DE REFRAÇÃO",null,null,"km",null,null,0]
["3. -  SONDAGEM A  TRADO (4\") ",null,null,"m",null,null,0]
["4. -  POÇOS DE INSPEÇÃO",null,null,"m",null,null,0]
["5. -      ENSAIOS",{"$nulls":5},0]
["5.1 -    Ensaios em solos",{"$nulls":5},0]
["5.1.1 - Umidade Natural ",null,null,"ensaio",0,null,0]
["5.1.2 - Densidade Natural",null,null,"ensaio",0,null,0]
["5.1.3 - Limite de Liquidez",null,null,"ensaio",0,null,0]
["5.1.4 - Limite de Plasticidade",null,null,"ensaio",0,null,0]
["5.1.5 - Granulometria por Peneiramento",null,null,"ensaio",0,null,0]
["5.1.6 - Granulometria por Sedimentação",null,null,"ensaio",0,null,0]
["5.1.7 - Ensaio compactação Proctor Normal",null,null,"ensaio",0,null,0]
["5.1.8 - Ensaio compactação Proctor Intermediario",null,null,"ensaio",null,null,0]
["5.1.9 - Ensaio compactação Proctor Modificado",null,null,"ensaio",null,null,0]
["5.1.9.1","Indice de Suporte California ISC c/3 corpos de prova",null,"ensaio",null,null,0]
["5.1.9.2","Indice de Suporte California ISC c/5 corpos de prova",null,"ensaio",null,null,0]
["5.1.8 - Massa Especifica  Real dos Grãos",null,null,"ensaio",0,null,0]
["5.1.9 - Adensamento Oedométrico",null,null,"ensaio",null,null,0]
["5.1.10 - Triaxial (UU) não consolidado não drenado",null,null,"ensaio",null,null,0]
["5.1.11 - Triaxial (CU) consolidado - não drenado",null,null,"ensaio",null,null,0]
["5.1.12 - Expansão",{"$nulls":5},0]
["5.1.12..1Ensaio de colapsividade em anéis de adensamento ",null,null,{"$f":"D46","v":"ensaio"},null,null,0]
["5.1.12..2Determinação da pressão de expansão",null,null,{"$f":"D48","v":"ensaio"},null,null,0]
["5.1.13 - Dispersão:",{"$nulls":5},0]
["5.1.13.1 - Granulometria Comparativa",null,null,"ensaio",null,null,0]
["5.1.13.2 - Crumb Test",null,null,"ensaio",null,null,0]
["5.1.14.   Infiltração",null,null,"ensaio",null,null,0]
["5.1.15    Ensaio de Perda d''agua (05 estágios)",null,null,"ensaio",null,null,0]
["5.1.16 -  Análise da Areia:",{"$nulls":5},0]
["5.1.16.1 Análise Química da Areia teor de mat organica",null,null,"ensaio",null,null,0]
["5.1.16.2 Equivalente de Areia",null,null,"ensaio",null,null,0]
["5.1.17-   Mineralogia",null,null,"ensaio",null,null,0]
["5.1.18 - Abrasão \"Los Angeles \"",null,null,"ensaio",null,null,0]
[null,"Indice de lamelaridade",null,"ensaio",null,null,0]
["5.1.19 - Reatividade Potencial",null,null,"ensaio",null,null,0]
["5.1.20 - Permeabilidade vertical de carga variavel",null,null,"ensaio",null,null,0]
["5.1.21 - Permeabilidade \"in situ\"",null,null,"ensaio",null,null,0]
["5.1.22 - Índice de Suporte California ISC",null,null,"ensaio",null,null,0]
[]
["TOTAL DE SERVIÇOS GEOTÉCNICOS",{"$nulls":5},{"$f":"SUM(G10:G65)","v":0}]
["NOME DO INFORMANTE:",null,null,"QUALIFICAÇÃO:"]
[]
["ASSINATURA:",{"$nulls":4},"DATA:"]
[]
["OBSERVAÇÃO:"]
["NO PREÇO DOS SERVIÇOS GEOTÉCNICOS, PAGOS A PREÇOS UNITÁRIOS, INCLUEM OS CUSTOS DE  MÃO-DE-OBRA,"]
["EQUIPAMENTOS, VEÍCULOS E LABORATÓRIOS UTILIZADOS NA SUA EXECUÇÃO, BEM COMO CUSTOS DE ADMINISTRAÇÃO E "]
["DESPESAS FISCAIS."]

{"sheet":"PFP_X Cronog Financ","index":8,"n_rows":45,"n_cols":8,"rows_kept":45,"cut":false,"hidden":false,"merged":[[6,6,6,7],[0,0,1,6],[2,0,2,7],[3,0,3,7],[5,0,5,1],[5,2,5,6],[20,2,20,4],[33,2,33,4],[38,0,38,5],[6,0,7,0],[6,1,7,1],[6,2,7,4],[6,5,7,5],[42,0,42,4],[42,5,42,7],[39,3,39,7],[40,0,40,2],[40,3,40,7],[41,0,41,4],[41,5,41,7]]}
["CRONOGRAMA FINANCEIRO",{"$nulls":6},"CODIGO:"]
[{"$nulls":7},"PFP-X"]
["NOME DA CONSULTORA:"]
["      "]
["PROJETO:",null,"OBJETO:",{"$nulls":4},"EDITAL:"]
[{"$f":"'PFP_VII Geotecnia'!A6:B6","v":"Januária"},null,{"$f":"'PFP_VII Geotecnia'!C6:F6","v":"Projeto do SAA de comunidades"}]
["Nº","TAREFA","RELATÓRIO/SERVIÇO DE CAMPO",null,null,"DIAS\nCORRIDOS","SERVIÇOS  PAGOS "]
[{"$nulls":6},"A  PREÇO GLOBAL(R$)","A PREÇO UNITÁRIO (R$)"]
[1]
[2]
[3]
[4]
[5]
[6]
[7]
[8]
[9]
[10]
[11]
[12]
[13]
[14]
{"$rows_empty":16}
["TOTAL DA FOLHA",{"$nulls":5},{"$f":"SUM(G9:G38)","v":0},{"$f":"SUM(H9:H38)","v":0}]
["NOME DO INFORMANTE:",null,null,"QUALIFICAÇÃO:"]
[]
["ASSINATURA:",{"$nulls":4},"DATA:"]
[]
["OBSERVAÇÃO:"]
["O CRONOGRAMA FINANCEIRO DEVERÁ ESTAR COMPATÍVEL COM O CRONOGRAMA FÍSICO (FOR PPT-V)"]

{"sheet":"PFP_X Cronog Financ preenchido","index":9,"n_rows":46,"n_cols":8,"rows_kept":46,"cut":false,"hidden":false,"merged":[[23,2,23,4],[24,2,24,4],[6,6,6,7],[0,0,1,6],[2,0,2,7],[3,0,3,7],[5,0,5,1],[5,2,5,6],[6,0,7,0],[6,1,7,1],[22,2,22,4],[20,2,20,4],[21,2,21,4],[19,2,19,4],[14,2,14,4],[15,2,15,4],[16,2,16,4],[18,2,18,4],[9,2,9,4],[10,2,10,4],[11,2,11,4],[12,2,12,4],[6,2,7,4],[6,5,7,5],[13,2,13,4],[43,0,43,4],[43,5,43,7],[34,2,34,4],[39,0,39,5],[40,3,40,7],[41,0,41,2],[41,3,41,7],[42,0,42,4],[42,5,42,7]]}
["CRONOGRAMA FINANCEIRO",{"$nulls":6},"CODIGO:"]
[{"$nulls":7},"PFP-X"]
["NOME DA CONSULTORA:"]
["      "]
["PROJETO:",null,"OBJETO:",{"$nulls":4},"EDITAL:"]
[{"$f":"'PFP_VII Geotecnia'!A6:B6","v":"Januária"},null,{"$f":"'PFP_VII Geotecnia'!C6:F6","v":"Projeto do SAA de comunidades"}]
["Nº","TAREFA","RELATÓRIO/SERVIÇO DE CAMPO",null,null,"PRAZO DE EXECUÇÃO DIAS\nCORRIDOS","SERVIÇOS  PAGOS "]
[{"$nulls":6},"A  PREÇO GLOBAL(R$)","A PREÇO UNITÁRIO (R$)"]
[1,"DIAGNÓSTICO E ESTUDO DE ALTERNATIVAS (60%)",{"$nulls":4},0.6]
[null,null,"E 1.1 – Serviços Topográficos (30%) ",null,null,null,{"$f":"G9*30%","v":0.18}]
[null,null,"E 1.2 – Serviços Geotécnicos (30%)",null,null,null,{"$f":"G9*30%","v":0.18}]
[null,null,"E 1.3 – Cadastros (10%)",null,null,null,{"$f":"G9*10%","v":0.06}]
[null,null,"E 1.4 – Estudo de Concepção (15%)",null,null,null,{"$f":"G9*15%","v":0.09}]
[null,null,"E 1.5 – Relatório do diagnóstico (15%)",null,null,null,{"$f":"G9*15%","v":0.09}]
[null,null,"TOTAL",null,null,null,{"$f":"SUM(G10:G14)","v":0.6}]
[]
[]
[2,"PROJETO BÁSICO DE ENGENHARIA (40%)",{"$nulls":4},0.4]
[null,null,"E 2.1 – Estudos Ambientais (10%)",null,null,null,{"$f":"G18*10%","v":4.0000000000000008E-2}]
[null,null,"E 2.2 – Projetos Elétricos e Estruturais (10%)",null,null,null,{"$f":"G18*10%","v":4.0000000000000008E-2}]
[null,null,"E 2.3 – Orçamento (10%)",null,null,null,{"$f":"G18*10%","v":4.0000000000000008E-2}]
[null,null,"E 2.4 – Minuta do Projeto Básico (40%)",null,null,null,{"$f":"G18*40%","v":0.16000000000000003}]
[null,null,"E 2.5 – Projeto Básico Final (30%)",null,null,null,{"$f":"G18*30%","v":0.12}]
[null,null,"TOTAL",null,null,null,{"$f":"SUM(G19:G23)","v":0.4}]
{"$rows_empty":15}
["TOTAL DA FOLHA",{"$nulls":5},{"$f":"SUM(G9:G39)","v":3.0000000000000004},{"$f":"SUM(H9:H39)","v":0}]
["NOME DO INFORMANTE:",null,null,"QUALIFICAÇÃO:"]
[]
["ASSINATURA:",{"$nulls":4},"DATA:"]
[]
["OBSERVAÇÃO:"]
["O CRONOGRAMA FINANCEIRO DEVERÁ ESTAR COMPATÍVEL COM O CRONOGRAMA FÍSICO (FOR PPT-V)"]

{"sheet":"PFP_XIII_ Det_ custos Adm_","index":10,"n_rows":40,"n_cols":7,"rows_kept":40,"cut":false,"hidden":false,"merged":[[35,1,35,4],[39,0,39,6],[40,0,40,6],[41,0,41,6],[42,0,42,6],[0,0,1,5],[2,0,2,6],[6,0,7,4],[6,5,6,6],[8,1,8,4],[9,1,9,4],[10,1,10,4]]}
["DETALHAMENTO DO CUSTO DE ADMINISTRAÇÃO",{"$nulls":5},"CODIGO:"]
[{"$nulls":6},"PFP-XIII"]
["NOME DA CONSULTORA:"]
[]
["PROJETO:",null,"OBJETO:",null,null,null,"EDITAL:"]
[{"$f":"'PFP_X Cronog Financ'!A6:B6","v":"Januária"},null,{"$f":"'PFP_X Cronog Financ'!C6:G6","v":"Projeto do SAA de comunidades"}]
["DISCRIMINAÇÃO",{"$nulls":4},"VALORES"]
[{"$nulls":5},"%","R$"]
[1,"Custos da equipe da administração central da empresa consultora ( diretoria, pessoal técnico de apoio e pessoal administrativo não diretamente vinculado à prestação dos serviços)",{"$nulls":4},{"$f":"F9*PFP!$N$14","v":0}]
[2,"Outras despesas que afetam o custo de produção como: avaliação do concreto com ensaios, treinamento, biblioteca, programa de qualidade, auditoria interna e externa",{"$nulls":4},{"$f":"F10*PFP!$N$14","v":0}]
[3,"Despesas com aluguéis, comunicação, manutenção e transporte não diretamente relacionados com o custo direto dos serviços",{"$nulls":4},{"$f":"F11*PFP!$N$14","v":0}]
[4]
["5"]
{"$rows_empty":22}
[null,"TOTAIS DO CUSTO DE ADMINISTRAÇÃO",null,null,null,{"$f":"SUM(F9:F35)","v":0},{"$f":"SUM(G9:G35)","v":0}]
[]
["NOME DO INFORMANTE:",null,null,"QUALIFICAÇÃO:"]
["ASSINATURA:",{"$nulls":4},"DATA:"]
["OBSERVAÇAO:"]

{"sheet":"PFP_XIV Det_ Desp Fiscais","index":11,"n_rows":47,"n_cols":8,"rows_kept":47,"cut":false,"hidden":false,"merged":[[0,0,1,6],[2,0,2,7],[6,0,7,4],[6,5,6,7],[5,0,5,1],[5,2,5,6],[8,0,8,4],[9,0,9,4],[24,0,24,4],[25,0,25,4],[12,0,12,4],[21,0,21,4],[22,0,22,4],[23,0,23,4],[26,0,26,4],[10,0,10,4],[11,0,11,4],[47,0,47,7],[28,0,28,4],[29,0,29,4],[30,0,30,4],[31,0,31,4],[34,0,34,4],[35,0,35,4],[42,0,42,7],[27,0,27,4],[32,0,32,4],[33,0,33,4],[36,0,36,4],[41,0,41,7]]}
["DETALHAMENTO DE DESPESAS FISCAIS",{"$nulls":6},"CODIGO:"]
[{"$nulls":7},"PFP-XIV"]
["NOME DA CONSULTORA:"]
[]
["PROJETO:",null,"OBJETO:",{"$nulls":4},"EDITAL:"]
[{"$f":"'PFP_XIII_ Det_ custos Adm_'!A6","v":"Januária"},null,{"$f":"'PFP_XIII_ Det_ custos Adm_'!C6","v":"Projeto do SAA de comunidades"}]
["DISCRIMINAÇÃO",{"$nulls":4},"VALORES"]
[{"$nulls":5},"DF %","DF' %","R$"]
[]
["1 - ISS",{"$nulls":5},{"$f":"(1/(1-$F$37/100))*F10","v":0},{"$f":"F10/($F$10+$F$11+$F$12)*$H$37","v":{"$error":"#DIV/0!"}}]
["2 - PIS",{"$nulls":5},{"$f":"(1/(1-$F$37/100))*F11","v":0},{"$f":"F11/($F$10+$F$11+$F$12)*$H$37","v":{"$error":"#DIV/0!"}}]
["3 - COFINS",{"$nulls":5},{"$f":"(1/(1-$F$37/100))*F12","v":0},{"$f":"F12/($F$10+$F$11+$F$12)*$H$37","v":{"$error":"#DIV/0!"}}]
{"$rows_empty":24}
["TOTAIS DE DESPESAS FISCAIS ",{"$nulls":4},{"$f":"F10+F11+F12","v":0},{"$f":"G10+G11+G12","v":0},{"$f":"PFP!N29","v":0}]
["NOME DO INFORMANTE:",null,null,"QUALIFICAÇÃO:"]
[]
["ASSINATURA:",{"$nulls":4},"DATA:"]
[]
["Observação:"]
[" As despesas fiscais (DF) incidem sobre o total da fatura e não sobre os custos incorridos. Portanto aplicar a seguinte fórmula:"]
[" DF = { [ 1 / ( 1 - DF ) ] - 1 } x 100"]
[" ou seja, para o valor máximo de 12,25%, o valor a ser aplicado na composição dos preços será:"]
[" DF = { [ 1 / ( 1 - 0,1225 ) ] - 1 } x 100"]
[" DF =0,1396  ou  13,96%"]

{"sheet":"PFP_XV Det_ Enc_ Soc_","index":12,"n_rows":39,"n_cols":7,"rows_kept":39,"cut":false,"hidden":false,"merged":[[8,1,8,4],[18,0,18,4],[19,0,19,5],[0,0,1,5],[2,0,2,6],[6,0,7,4],[6,5,6,6],[5,2,5,5],[29,0,29,6],[35,0,35,4],[30,1,30,4],[32,1,32,4],[33,0,33,4],[31,1,31,4],[28,0,28,4],[20,1,20,4],[22,0,22,4],[25,1,25,4],[27,1,27,4],[23,1,23,6],[24,1,24,4],[26,1,26,4]]}
["DETALHAMENTO DOS ENCARGOS SOCIAIS",{"$nulls":5},"CODIGO:"]
[{"$nulls":6},"PFP-XV"]
["NOME DA CONSULTORA:"]
[]
["PROJETO:",null,"OBJETO:",null,null,null,"EDITAL:"]
[{"$f":"'PFP_XIV Det_ Desp Fiscais'!A6:B6","v":"Januária"},null,{"$f":"'PFP_XIV Det_ Desp Fiscais'!C6:G6","v":"Projeto do SAA de comunidades"}]
["DISCRIMINAÇÃO",{"$nulls":4},"VALORES"]
[{"$nulls":5},"%","R$"]
["A","ENCARGOS SOCIAIS BÁSICOS"]
["A1","Seconci",{"$nulls":4},{"$f":"F10*'PFP_I Equip Proj'!$D$40","v":0}]
["A2","INSS",{"$nulls":4},{"$f":"F11*'PFP_I Equip Proj'!$D$40","v":0}]
["A3","FGTS",{"$nulls":4},{"$f":"F12*'PFP_I Equip Proj'!$D$40","v":0}]
["A4","Incra",{"$nulls":4},{"$f":"F13*'PFP_I Equip Proj'!$D$40","v":0}]
["A5","Salário Educação ",{"$nulls":4},{"$f":"F14*'PFP_I Equip Proj'!$D$40","v":0}]
["A5","Sebrae",{"$nulls":4},{"$f":"F15*'PFP_I Equip Proj'!$D$40","v":0}]
["A7","Seguro contra acidente",{"$nulls":4},{"$f":"F16*'PFP_I Equip Proj'!$D$40","v":0}]
["A8","Senai",{"$nulls":4},{"$f":"F17*'PFP_I Equip Proj'!$D$40","v":0}]
["A9","Sesi",{"$nulls":4},{"$f":"F18*'PFP_I Equip Proj'!$D$40","v":0}]
["SUBTOTAL DE \"A\"",{"$nulls":4},{"$f":"ROUND(SUM(F10:F18),4)","v":0},{"$f":"SUM(G10:G18)","v":0}]
[]
["B"," ENCARGOS SOCIAIS QUE RECEBEM INCIDÊNCIA DE \"A\""]
["B1","13º Salário  ",{"$nulls":4},{"$f":"F22*'PFP_I Equip Proj'!$D$40","v":0}]
["SUBTOTAL DE  \"B\"",{"$nulls":4},{"$f":"SUM(F22:F22)","v":0},{"$f":"SUM(G22:G22)","v":0}]
[]
["C"," ENCARGOS SOCIAIS QUE NÃO RECEBEM INCIDÊNCIA DE \"A\""]
["C1","Depósito Rescisão Sem Justa Causa",{"$nulls":4},{"$f":"F26*'PFP_I Equip Proj'!$D$40","v":0}]
["C2","Férias",{"$nulls":4},{"$f":"F27*'PFP_I Equip Proj'!$D$40","v":0}]
["C3","Aviso Prévio",{"$nulls":4},{"$f":"F28*'PFP_I Equip Proj'!$D$40","v":0}]
["SUBTOTAL DE \"C\"",{"$nulls":4},{"$f":"ROUND(SUM(F26:F28),4)","v":0},{"$f":"SUM(G26:G28)","v":0}]
[]
["D"," REINCIDÊNCIAS"]
["D1","Reincidência de \"A\" sobre \"B\" - A% x B%",null,null,null,{"$f":"ROUND((F19*F23),4)","v":0},{"$f":"F32*'PFP_I Equip Proj'!$D$40","v":0}]
["D2","Reincidência de \"A\" sobre \"C3\" - A% x C3%",null,null,null,{"$f":"F28*F19","v":0},{"$f":"F33*'PFP_I Equip Proj'!$D$40","v":0}]
["SUBTOTAL DE \"D\"",{"$nulls":4},{"$f":"ROUND((F33+F32),4)","v":0},{"$f":"SUM(G33:G33)","v":0}]
[]
["TOTAIS DE ENCARGOS SOCIAIS",{"$nulls":4},{"$f":"ROUND(F19+F23+F29+F34,4)","v":0},{"$f":"G19+G23+G29+G34","v":0}]
["NOME DO INFORMANTE:",null,null,"QUALIFICAÇÃO:"]
["ASSINATURA:",{"$nulls":4},"DATA:"]
["Observação:"]

{"sheet":"PFE_I","index":13,"n_rows":51,"n_cols":7,"rows_kept":51,"cut":false,"hidden":false,"merged":[[25,1,25,2],[28,1,28,2],[29,1,29,2],[31,1,31,2],[34,1,34,2],[19,1,19,2],[20,1,20,2],[21,1,21,2],[33,1,33,2],[32,1,32,2],[8,0,8,2],[9,0,9,2],[15,1,15,2],[17,1,17,2],[12,1,12,2],[14,1,14,2],[40,1,40,2],[41,1,41,2],[42,1,42,2],[18,1,18,2],[16,1,16,2],[13,1,13,2],[30,1,30,2],[22,1,22,2],[23,1,23,2],[24,1,24,2],[49,5,49,6],[44,0,44,5],[47,0,47,2],[47,3,47,6],[36,1,36,2],[35,1,35,2],[37,1,37,2],[48,0,49,4],[43,1,43,2],[39,1,39,2],[0,0,1,5],[2,0,2,6],[5,2,5,5],[6,0,7,2],[6,3,7,3],[6,4,7,4],[6,5,6,6]]}
["SERVIÇOS AUXILIARES",{"$nulls":5},"CODIGO:"]
[{"$nulls":6},"PFE-I"]
["NOME DA CONSULTORA: "]
[]
["PROJETO:",null,"OBJETO:",null,null,null,"EDITAL:"]
[{"$f":"'PFP_IV Desp Gerais'!A6","v":"Januária"},null,{"$f":"'PFP_IV Desp Gerais'!C6:G6","v":"Projeto do SAA de comunidades"}]
["DISCRIMINAÇÃO",null,null,"UNID.","QUANT.","PREÇOS (R$)"]
[{"$nulls":5},"UNITÁRIO","TOTAL"]
[]
[]
["Análise fisico-química e bacteriológica da fonte hídirca",null,null,"cj",null,null,{"$f":"PRODUCT(E11*F11)","v":0}]
["Teste de vazão de poços profundos - 24 horas",null,null,"u",null,null,{"$f":"PRODUCT(E12*F12)","v":0}]
{"$rows_empty":32}
["TOTAL  DE SERVIÇOS ",{"$nulls":5},{"$f":"SUM(G10:G44)","v":0}]
[]
["NOME DO INFORMANTE:",null,null,"QUALIFICAÇÃO:"]
[]
["ASSINATURA:",{"$nulls":4},"DATA:"]
[]
["OBSERVAÇÃO:"]

{"sheet":"PTP_V Cronog Físico em Branco","index":14,"n_rows":45,"n_cols":27,"rows_kept":45,"cut":false,"hidden":false,"merged":[[0,0,1,21],[0,22,0,27],[1,22,1,27],[2,0,2,27],[11,2,11,5],[5,7,5,23],[5,24,5,27],[7,24,7,25],[6,14,6,15],[6,16,6,17],[6,18,6,19],[6,20,6,21],[6,22,6,23],[6,24,6,25],[6,26,6,27],[4,0,4,6],[4,7,4,23],[4,24,4,27],[9,2,9,5],[10,2,10,5],[7,14,7,15],[6,2,7,5],[6,7,6,8],[5,0,5,6],[6,0,7,0],[6,1,7,1],[7,16,7,17],[7,26,7,27],[7,18,7,19],[7,20,7,21],[7,22,7,23],[8,2,8,5],[19,2,19,5],[12,2,12,5],[13,2,13,5],[15,2,15,5],[16,2,16,5],[17,2,17,5],[18,2,18,5],[43,0,43,18],[44,0,44,27],[20,2,20,5],[40,0,40,11],[40,12,40,27],[41,1,41,11],[41,12,41,27],[42,0,42,18]]}
["CRONOGRAMA FÍSICO ",{"$nulls":21},"CODIGO:"]
[{"$nulls":22},"PTP-V"]
["NOME DA CONSULTORA:"]
[]
["PROJETO:",{"$nulls":6},"OBJETO:",{"$nulls":16},"EDITAL:"]
["Januária",{"$nulls":6},{"$f":"PFP!F6","v":"Projeto do SAA de comunidades"}]
["SEQ","COD.","TAREFA/ATIVIDADE",null,null,null,"DURAÇÃO","DATA",null,"MÊS1","MÊS2","MÊS3","MÊS4","MÊS5","MÊS6",null,"MÊS7",null,"MÊS8",null,"MÊS9",null,"MÊS10",null,"MÊS11",null,"MÊS12"]
[{"$nulls":6},"(DIAS)","INIC.","FIM"]
["1","E1","DIAGNÓSTICO E ESTUDO DE ALTERNATIVAS"]
["1","E1.1","Serviços Topográficos"]
["1","E1.2","Serviços Geotécnicos "]
["1","E1.3","Cadastros"]
["1","E1.4","Estudo de Concepção "]
["1","E1.5","Relatório do diagnóstico"]
[]
["2","E2","PROJETO BÁSICO DE ENGENHARIA (40%)"]
["2","E2.1","Estudos Ambientais"]
["2","E2.2","Projetos Elétricos e Estruturais"]
["2","E2.3","Orçamento"]
["2","E2.4","Minuta do Projeto Básico "]
["2","E2.5","Projeto Básico Final"]
{"$rows_empty":19}
["NOME DO INFORMANTE:",{"$nulls":11},"QUALIFICAÇÃO:"]
[]
["ASSINATURA:",{"$nulls":18},"DATA:"]
[]
["LEGENDA:"]

{"sheet":"PTP_V Cronog Físico","index":15,"n_rows":45,"n_cols":27,"rows_kept":45,"cut":false,"hidden":false,"merged":[[5,0,5,6],[5,7,5,23],[4,0,4,6],[4,7,4,23],[0,0,1,21],[0,22,0,27],[1,22,1,27],[2,0,2,27],[4,24,4,27],[7,16,7,17],[6,14,6,15],[6,16,6,17],[7,18,7,19],[7,20,7,21],[6,22,6,23],[6,26,6,27],[7,26,7,27],[5,24,5,27],[6,1,7,1],[6,2,7,5],[6,0,7,0],[6,24,6,25],[7,22,7,23],[7,24,7,25],[6,7,6,8],[6,18,6,19],[7,14,7,15],[6,20,6,21],[16,2,16,5],[8,2,8,5],[9,2,9,5],[10,2,10,5],[11,2,11,5],[12,2,12,5],[17,2,17,5],[42,0,42,18],[18,2,18,5],[19,2,19,5],[20,2,20,5],[13,2,13,5],[15,2,15,5],[44,0,44,27],[40,0,40,11],[40,12,40,27],[41,1,41,11],[41,12,41,27],[43,0,43,18]]}
["CRONOGRAMA FÍSICO ",{"$nulls":21},"CODIGO:"]
[{"$nulls":22},"PTP-V"]
["NOME DA CONSULTORA:"]
[]
["PROJETO:",{"$nulls":6},"OBJETO:",{"$nulls":16},"EDITAL:"]
["Januária",{"$nulls":6},{"$f":"PFP!F6","v":"Projeto do SAA de comunidades"}]
["SEQ","COD.","TAREFA/ATIVIDADE",null,null,null,"DURAÇÃO","DATA",null,"MÊS1","MÊS2","MÊS3","MÊS4","MÊS5","MÊS6",null,"MÊS7",null,"MÊS8",null,"MÊS9",null,"MÊS10",null,"MÊS11",null,"MÊS12"]
[{"$nulls":6},"(DIAS)","INIC.","FIM"]
["1","E1","DIAGNÓSTICO E ESTUDO DE ALTERNATIVAS"]
["1","E1.1","Serviços Topográficos"]
["1","E1.2","Serviços Geotécnicos "]
["1","E1.3","Cadastros"]
["1","E1.4","Estudo de Concepção "]
["1","E1.5","Relatório do diagnóstico"]
[]
["2","E2","PROJETO BÁSICO DE ENGENHARIA"]
["2","E2.1","Estudos Ambientais"]
["2","E2.2","Projetos Elétricos e Estruturais"]
["2","E2.3","Orçamento"]
["2","E2.4","Minuta do Projeto Básico "]
["2","E2.5","Projeto Básico Final"]
{"$rows_empty":19}
["NOME DO INFORMANTE:",{"$nulls":11},"QUALIFICAÇÃO:"]
[]
["ASSINATURA:",{"$nulls":18},"DATA:"]
[]
["LEGENDA:"]